BEGIN:VCALENDAR
VERSION:2.0
PRODID:-//Reflektorische Atemtherapie - ECPv6.15.18//NONSGML v1.0//EN
CALSCALE:GREGORIAN
METHOD:PUBLISH
X-WR-CALNAME:Reflektorische Atemtherapie
X-ORIGINAL-URL:https://reflektorische-atemtherapie.de
X-WR-CALDESC:Veranstaltungen für Reflektorische Atemtherapie
REFRESH-INTERVAL;VALUE=DURATION:PT1H
X-Robots-Tag:noindex
X-PUBLISHED-TTL:PT1H
BEGIN:VTIMEZONE
TZID:Europe/Berlin
BEGIN:DAYLIGHT
TZOFFSETFROM:+0100
TZOFFSETTO:+0200
TZNAME:CEST
DTSTART:20250330T010000
END:DAYLIGHT
BEGIN:STANDARD
TZOFFSETFROM:+0200
TZOFFSETTO:+0100
TZNAME:CET
DTSTART:20251026T010000
END:STANDARD
BEGIN:DAYLIGHT
TZOFFSETFROM:+0100
TZOFFSETTO:+0200
TZNAME:CEST
DTSTART:20260329T010000
END:DAYLIGHT
BEGIN:STANDARD
TZOFFSETFROM:+0200
TZOFFSETTO:+0100
TZNAME:CET
DTSTART:20261025T010000
END:STANDARD
BEGIN:DAYLIGHT
TZOFFSETFROM:+0100
TZOFFSETTO:+0200
TZNAME:CEST
DTSTART:20270328T010000
END:DAYLIGHT
BEGIN:STANDARD
TZOFFSETFROM:+0200
TZOFFSETTO:+0100
TZNAME:CET
DTSTART:20271031T010000
END:STANDARD
BEGIN:DAYLIGHT
TZOFFSETFROM:+0100
TZOFFSETTO:+0200
TZNAME:CEST
DTSTART:20280326T010000
END:DAYLIGHT
BEGIN:STANDARD
TZOFFSETFROM:+0200
TZOFFSETTO:+0100
TZNAME:CET
DTSTART:20281029T010000
END:STANDARD
END:VTIMEZONE
BEGIN:VEVENT
DTSTART;VALUE=DATE:20260506
DTEND;VALUE=DATE:20260510
DTSTAMP:20260425T173745
CREATED:20250927T071007Z
LAST-MODIFIED:20250927T071007Z
UID:10001224-1778025600-1778371199@reflektorische-atemtherapie.de
SUMMARY:Modul 2 (Nürnberg)
DESCRIPTION:
URL:https://reflektorische-atemtherapie.de/event/modul-2-nuernberg-4/
LOCATION:Döpfer Akademie Nürnberg\, Keßlerstraße 1\, Nürnberg\, 90489\, Deutschland
CATEGORIES:Modul 2
GEO:49.4543144;11.0879904
X-APPLE-STRUCTURED-LOCATION;VALUE=URI;X-ADDRESS=Döpfer Akademie Nürnberg Keßlerstraße 1 Nürnberg 90489 Deutschland;X-APPLE-RADIUS=500;X-TITLE=Keßlerstraße 1:geo:11.0879904,49.4543144
END:VEVENT
BEGIN:VEVENT
DTSTART;VALUE=DATE:20260518
DTEND;VALUE=DATE:20260522
DTSTAMP:20260425T173745
CREATED:20250927T071106Z
LAST-MODIFIED:20250927T071106Z
UID:10001225-1779062400-1779407999@reflektorische-atemtherapie.de
SUMMARY:Modul 1 (Regensburg)
DESCRIPTION:
URL:https://reflektorische-atemtherapie.de/event/modul-1-regensburg-2/
LOCATION:Pschick-Fobi-Akademie\, Im Gewerbepark D75\, Regensburg\, 93059\, Deutschland
CATEGORIES:Modul 1
END:VEVENT
BEGIN:VEVENT
DTSTART;VALUE=DATE:20260709
DTEND;VALUE=DATE:20260713
DTSTAMP:20260425T173745
CREATED:20250927T071144Z
LAST-MODIFIED:20250927T071144Z
UID:10001226-1783555200-1783900799@reflektorische-atemtherapie.de
SUMMARY:Modul 2 (Ludwigsburg)
DESCRIPTION:
URL:https://reflektorische-atemtherapie.de/event/modul-2-ludwigsburg-4/
LOCATION:ACADIA Ludwigsburg MFZ\, Martin-Luther-strasse 69\, Ludwigsburg\, 71636
CATEGORIES:Modul 2
GEO:48.8924965;9.1814553
X-APPLE-STRUCTURED-LOCATION;VALUE=URI;X-ADDRESS=ACADIA Ludwigsburg MFZ Martin-Luther-strasse 69 Ludwigsburg 71636;X-APPLE-RADIUS=500;X-TITLE=Martin-Luther-strasse 69:geo:9.1814553,48.8924965
END:VEVENT
BEGIN:VEVENT
DTSTART;VALUE=DATE:20260714
DTEND;VALUE=DATE:20260718
DTSTAMP:20260425T173745
CREATED:20250927T071239Z
LAST-MODIFIED:20250927T071239Z
UID:10001227-1783987200-1784332799@reflektorische-atemtherapie.de
SUMMARY:Modul 1 (Nürnberg)
DESCRIPTION:
URL:https://reflektorische-atemtherapie.de/event/modul-1-nuernberg-3/
LOCATION:Döpfer Akademie Nürnberg\, Keßlerstraße 1\, Nürnberg\, 90489\, Deutschland
CATEGORIES:Modul 1
GEO:49.4543144;11.0879904
X-APPLE-STRUCTURED-LOCATION;VALUE=URI;X-ADDRESS=Döpfer Akademie Nürnberg Keßlerstraße 1 Nürnberg 90489 Deutschland;X-APPLE-RADIUS=500;X-TITLE=Keßlerstraße 1:geo:11.0879904,49.4543144
END:VEVENT
BEGIN:VEVENT
DTSTART;VALUE=DATE:20260813
DTEND;VALUE=DATE:20260817
DTSTAMP:20260425T173745
CREATED:20250927T071343Z
LAST-MODIFIED:20250927T071343Z
UID:10001228-1786579200-1786924799@reflektorische-atemtherapie.de
SUMMARY:Modul 1 (Hannover)
DESCRIPTION:
URL:https://reflektorische-atemtherapie.de/event/modul-1-hannover-2/
LOCATION:MFZ Hannover\, Hildesheimer Str. 265\, Hannover\, 30519\, Deutschland
CATEGORIES:Modul 1
GEO:52.3377426;9.7696641
X-APPLE-STRUCTURED-LOCATION;VALUE=URI;X-ADDRESS=MFZ Hannover Hildesheimer Str. 265 Hannover 30519 Deutschland;X-APPLE-RADIUS=500;X-TITLE=Hildesheimer Str. 265:geo:9.7696641,52.3377426
END:VEVENT
BEGIN:VEVENT
DTSTART;VALUE=DATE:20260924
DTEND;VALUE=DATE:20260928
DTSTAMP:20260425T173745
CREATED:20250927T071438Z
LAST-MODIFIED:20250927T071438Z
UID:10001229-1790208000-1790553599@reflektorische-atemtherapie.de
SUMMARY:Modul 1 (Regensburg)
DESCRIPTION:
URL:https://reflektorische-atemtherapie.de/event/modul-1-regensburg-3/
LOCATION:Pschick-Fobi-Akademie\, Im Gewerbepark D75\, Regensburg\, 93059\, Deutschland
CATEGORIES:Modul 1
END:VEVENT
BEGIN:VEVENT
DTSTART;VALUE=DATE:20261104
DTEND;VALUE=DATE:20261108
DTSTAMP:20260425T173745
CREATED:20250927T071518Z
LAST-MODIFIED:20250927T071518Z
UID:10001230-1793750400-1794095999@reflektorische-atemtherapie.de
SUMMARY:Modul 3 (Nürnberg)
DESCRIPTION:
URL:https://reflektorische-atemtherapie.de/event/modul-3-nuernberg-3/
LOCATION:Döpfer Akademie Nürnberg\, Keßlerstraße 1\, Nürnberg\, 90489\, Deutschland
CATEGORIES:Modul 3
GEO:49.4543144;11.0879904
X-APPLE-STRUCTURED-LOCATION;VALUE=URI;X-ADDRESS=Döpfer Akademie Nürnberg Keßlerstraße 1 Nürnberg 90489 Deutschland;X-APPLE-RADIUS=500;X-TITLE=Keßlerstraße 1:geo:11.0879904,49.4543144
END:VEVENT
BEGIN:VEVENT
DTSTART;VALUE=DATE:20261121
DTEND;VALUE=DATE:20261123
DTSTAMP:20260425T173745
CREATED:20250927T071632Z
LAST-MODIFIED:20250927T071632Z
UID:10001232-1795219200-1795391999@reflektorische-atemtherapie.de
SUMMARY:Refresher (Hannover)
DESCRIPTION:
URL:https://reflektorische-atemtherapie.de/event/refresher-hannover/
LOCATION:MFZ Hannover\, Hildesheimer Str. 265\, Hannover\, 30519\, Deutschland
CATEGORIES:Refresher
GEO:52.3377426;9.7696641
X-APPLE-STRUCTURED-LOCATION;VALUE=URI;X-ADDRESS=MFZ Hannover Hildesheimer Str. 265 Hannover 30519 Deutschland;X-APPLE-RADIUS=500;X-TITLE=Hildesheimer Str. 265:geo:9.7696641,52.3377426
END:VEVENT
BEGIN:VEVENT
DTSTART;VALUE=DATE:20261123
DTEND;VALUE=DATE:20261127
DTSTAMP:20260425T173745
CREATED:20250927T071555Z
LAST-MODIFIED:20250927T071555Z
UID:10001231-1795392000-1795737599@reflektorische-atemtherapie.de
SUMMARY:Modul 2 (Hannover)
DESCRIPTION:
URL:https://reflektorische-atemtherapie.de/event/modul-2-hannover-3/
LOCATION:MFZ Hannover\, Hildesheimer Str. 265\, Hannover\, 30519\, Deutschland
CATEGORIES:Modul 2
GEO:52.3377426;9.7696641
X-APPLE-STRUCTURED-LOCATION;VALUE=URI;X-ADDRESS=MFZ Hannover Hildesheimer Str. 265 Hannover 30519 Deutschland;X-APPLE-RADIUS=500;X-TITLE=Hildesheimer Str. 265:geo:9.7696641,52.3377426
END:VEVENT
BEGIN:VEVENT
DTSTART;VALUE=DATE:20261130
DTEND;VALUE=DATE:20261204
DTSTAMP:20260425T173745
CREATED:20260106T173044Z
LAST-MODIFIED:20260106T173044Z
UID:10001252-1795996800-1796342399@reflektorische-atemtherapie.de
SUMMARY:Modul 2 (Nürnberg)
DESCRIPTION:
URL:https://reflektorische-atemtherapie.de/event/modul-2-nuernberg-5/
LOCATION:Döpfer Akademie Nürnberg\, Keßlerstraße 1\, Nürnberg\, 90489\, Deutschland
CATEGORIES:Modul 2
GEO:49.4543144;11.0879904
X-APPLE-STRUCTURED-LOCATION;VALUE=URI;X-ADDRESS=Döpfer Akademie Nürnberg Keßlerstraße 1 Nürnberg 90489 Deutschland;X-APPLE-RADIUS=500;X-TITLE=Keßlerstraße 1:geo:11.0879904,49.4543144
END:VEVENT
BEGIN:VEVENT
DTSTART;VALUE=DATE:20270111
DTEND;VALUE=DATE:20270115
DTSTAMP:20260425T173745
CREATED:20260106T173330Z
LAST-MODIFIED:20260106T173330Z
UID:10001253-1799625600-1799971199@reflektorische-atemtherapie.de
SUMMARY:Modul 2 (Regensburg)
DESCRIPTION:
URL:https://reflektorische-atemtherapie.de/event/modul-2-regensburg-3/
LOCATION:Pschick-Fobi-Akademie\, Im Gewerbepark D75\, Regensburg\, 93059\, Deutschland
CATEGORIES:Modul 2
END:VEVENT
BEGIN:VEVENT
DTSTART;VALUE=DATE:20270121
DTEND;VALUE=DATE:20270125
DTSTAMP:20260425T173745
CREATED:20260106T173430Z
LAST-MODIFIED:20260106T173430Z
UID:10001254-1800489600-1800835199@reflektorische-atemtherapie.de
SUMMARY:Modul 3 (Ludwigsburg)
DESCRIPTION:
URL:https://reflektorische-atemtherapie.de/event/modul-3-ludwigsburg-3/
LOCATION:ACADIA Ludwigsburg MFZ\, Martin-Luther-strasse 69\, Ludwigsburg\, 71636
CATEGORIES:Modul 3
GEO:48.8924965;9.1814553
X-APPLE-STRUCTURED-LOCATION;VALUE=URI;X-ADDRESS=ACADIA Ludwigsburg MFZ Martin-Luther-strasse 69 Ludwigsburg 71636;X-APPLE-RADIUS=500;X-TITLE=Martin-Luther-strasse 69:geo:9.1814553,48.8924965
END:VEVENT
BEGIN:VEVENT
DTSTART;VALUE=DATE:20270405
DTEND;VALUE=DATE:20270409
DTSTAMP:20260425T173745
CREATED:20260106T173530Z
LAST-MODIFIED:20260106T173530Z
UID:10001255-1806883200-1807228799@reflektorische-atemtherapie.de
SUMMARY:Modul 3 (Nürnberg)
DESCRIPTION:
URL:https://reflektorische-atemtherapie.de/event/modul-3-nuernberg-4/
LOCATION:Döpfer Akademie Nürnberg\, Keßlerstraße 1\, Nürnberg\, 90489\, Deutschland
CATEGORIES:Modul 3
GEO:49.4543144;11.0879904
X-APPLE-STRUCTURED-LOCATION;VALUE=URI;X-ADDRESS=Döpfer Akademie Nürnberg Keßlerstraße 1 Nürnberg 90489 Deutschland;X-APPLE-RADIUS=500;X-TITLE=Keßlerstraße 1:geo:11.0879904,49.4543144
END:VEVENT
BEGIN:VEVENT
DTSTART;VALUE=DATE:20270602
DTEND;VALUE=DATE:20270606
DTSTAMP:20260425T173745
CREATED:20260106T173710Z
LAST-MODIFIED:20260106T173710Z
UID:10001256-1811894400-1812239999@reflektorische-atemtherapie.de
SUMMARY:Modul 3 (Regensburg)
DESCRIPTION:
URL:https://reflektorische-atemtherapie.de/event/modul-3-regensburg-5/
LOCATION:Pschick-Fobi-Akademie\, Im Gewerbepark D75\, Regensburg\, 93059\, Deutschland
CATEGORIES:Modul 3
END:VEVENT
END:VCALENDAR