BEGIN:VCALENDAR
VERSION:2.0
PRODID:-//Reflektorische Atemtherapie - ECPv6.15.18//NONSGML v1.0//EN
CALSCALE:GREGORIAN
METHOD:PUBLISH
X-WR-CALNAME:Reflektorische Atemtherapie
X-ORIGINAL-URL:https://reflektorische-atemtherapie.de
X-WR-CALDESC:Veranstaltungen für Reflektorische Atemtherapie
REFRESH-INTERVAL;VALUE=DURATION:PT1H
X-Robots-Tag:noindex
X-PUBLISHED-TTL:PT1H
BEGIN:VTIMEZONE
TZID:Europe/Berlin
BEGIN:DAYLIGHT
TZOFFSETFROM:+0100
TZOFFSETTO:+0200
TZNAME:CEST
DTSTART:20170326T010000
END:DAYLIGHT
BEGIN:STANDARD
TZOFFSETFROM:+0200
TZOFFSETTO:+0100
TZNAME:CET
DTSTART:20171029T010000
END:STANDARD
BEGIN:DAYLIGHT
TZOFFSETFROM:+0100
TZOFFSETTO:+0200
TZNAME:CEST
DTSTART:20180325T010000
END:DAYLIGHT
BEGIN:STANDARD
TZOFFSETFROM:+0200
TZOFFSETTO:+0100
TZNAME:CET
DTSTART:20181028T010000
END:STANDARD
BEGIN:DAYLIGHT
TZOFFSETFROM:+0100
TZOFFSETTO:+0200
TZNAME:CEST
DTSTART:20190331T010000
END:DAYLIGHT
BEGIN:STANDARD
TZOFFSETFROM:+0200
TZOFFSETTO:+0100
TZNAME:CET
DTSTART:20191027T010000
END:STANDARD
BEGIN:DAYLIGHT
TZOFFSETFROM:+0100
TZOFFSETTO:+0200
TZNAME:CEST
DTSTART:20200329T010000
END:DAYLIGHT
BEGIN:STANDARD
TZOFFSETFROM:+0200
TZOFFSETTO:+0100
TZNAME:CET
DTSTART:20201025T010000
END:STANDARD
BEGIN:DAYLIGHT
TZOFFSETFROM:+0100
TZOFFSETTO:+0200
TZNAME:CEST
DTSTART:20210328T010000
END:DAYLIGHT
BEGIN:STANDARD
TZOFFSETFROM:+0200
TZOFFSETTO:+0100
TZNAME:CET
DTSTART:20211031T010000
END:STANDARD
BEGIN:DAYLIGHT
TZOFFSETFROM:+0100
TZOFFSETTO:+0200
TZNAME:CEST
DTSTART:20220327T010000
END:DAYLIGHT
BEGIN:STANDARD
TZOFFSETFROM:+0200
TZOFFSETTO:+0100
TZNAME:CET
DTSTART:20221030T010000
END:STANDARD
BEGIN:DAYLIGHT
TZOFFSETFROM:+0100
TZOFFSETTO:+0200
TZNAME:CEST
DTSTART:20230326T010000
END:DAYLIGHT
BEGIN:STANDARD
TZOFFSETFROM:+0200
TZOFFSETTO:+0100
TZNAME:CET
DTSTART:20231029T010000
END:STANDARD
END:VTIMEZONE
BEGIN:VEVENT
DTSTART;VALUE=DATE:20220923
DTEND;VALUE=DATE:20220927
DTSTAMP:20260425T225142
CREATED:20211110T072614Z
LAST-MODIFIED:20211110T072614Z
UID:10000722-1663891200-1664236799@reflektorische-atemtherapie.de
SUMMARY:Modul3 (Nürnberg)
DESCRIPTION:
URL:https://reflektorische-atemtherapie.de/event/modul3-nuernberg/
LOCATION:Döpfer Akademie Nürnberg\, Keßlerstraße 1\, Nürnberg\, 90489\, Deutschland
CATEGORIES:Modul 3
GEO:49.4543144;11.0879904
X-APPLE-STRUCTURED-LOCATION;VALUE=URI;X-ADDRESS=Döpfer Akademie Nürnberg Keßlerstraße 1 Nürnberg 90489 Deutschland;X-APPLE-RADIUS=500;X-TITLE=Keßlerstraße 1:geo:11.0879904,49.4543144
END:VEVENT
BEGIN:VEVENT
DTSTART;VALUE=DATE:20220905
DTEND;VALUE=DATE:20220909
DTSTAMP:20260425T225142
CREATED:20211110T072558Z
LAST-MODIFIED:20211110T072558Z
UID:10000720-1662336000-1662681599@reflektorische-atemtherapie.de
SUMMARY:Modul3 (Ludwigsburg)
DESCRIPTION:
URL:https://reflektorische-atemtherapie.de/event/modul3-ludwigsburg/
LOCATION:ACADIA Ludwigsburg MFZ\, Martin-Luther-strasse 69\, Ludwigsburg\, 71636
CATEGORIES:Modul 3
GEO:48.8924965;9.1814553
X-APPLE-STRUCTURED-LOCATION;VALUE=URI;X-ADDRESS=ACADIA Ludwigsburg MFZ Martin-Luther-strasse 69 Ludwigsburg 71636;X-APPLE-RADIUS=500;X-TITLE=Martin-Luther-strasse 69:geo:9.1814553,48.8924965
END:VEVENT
BEGIN:VEVENT
DTSTART;VALUE=DATE:20220825
DTEND;VALUE=DATE:20220829
DTSTAMP:20260425T225142
CREATED:20211110T072539Z
LAST-MODIFIED:20211110T072539Z
UID:10000719-1661385600-1661731199@reflektorische-atemtherapie.de
SUMMARY:Modul3 (Hannover)
DESCRIPTION:
URL:https://reflektorische-atemtherapie.de/event/modul3-hannover/
LOCATION:MFZ Hannover\, Hildesheimer Str. 265\, Hannover\, 30519\, Deutschland
CATEGORIES:Modul 3
GEO:52.3377426;9.7696641
X-APPLE-STRUCTURED-LOCATION;VALUE=URI;X-ADDRESS=MFZ Hannover Hildesheimer Str. 265 Hannover 30519 Deutschland;X-APPLE-RADIUS=500;X-TITLE=Hildesheimer Str. 265:geo:9.7696641,52.3377426
END:VEVENT
BEGIN:VEVENT
DTSTART;VALUE=DATE:20220705
DTEND;VALUE=DATE:20220709
DTSTAMP:20260425T225142
CREATED:20220403T173946Z
LAST-MODIFIED:20220403T173946Z
UID:10000905-1656979200-1657324799@reflektorische-atemtherapie.de
SUMMARY:Modul 1 (Nürnberg)
DESCRIPTION:
URL:https://reflektorische-atemtherapie.de/event/modul-1-nuernberg/
LOCATION:Döpfer Akademie Nürnberg\, Keßlerstraße 1\, Nürnberg\, 90489\, Deutschland
CATEGORIES:Modul 1
GEO:49.4543144;11.0879904
X-APPLE-STRUCTURED-LOCATION;VALUE=URI;X-ADDRESS=Döpfer Akademie Nürnberg Keßlerstraße 1 Nürnberg 90489 Deutschland;X-APPLE-RADIUS=500;X-TITLE=Keßlerstraße 1:geo:11.0879904,49.4543144
END:VEVENT
BEGIN:VEVENT
DTSTART;VALUE=DATE:20220705
DTEND;VALUE=DATE:20220709
DTSTAMP:20260425T225142
CREATED:20220217T190921Z
LAST-MODIFIED:20220217T190921Z
UID:10000728-1656979200-1657324799@reflektorische-atemtherapie.de
SUMMARY:Modul1 (Nürnberg)
DESCRIPTION:
URL:https://reflektorische-atemtherapie.de/event/modul1-nuernberg-2/
LOCATION:Döpfer Akademie Nürnberg\, Keßlerstraße 1\, Nürnberg\, 90489\, Deutschland
CATEGORIES:Modul 1
GEO:49.4543144;11.0879904
X-APPLE-STRUCTURED-LOCATION;VALUE=URI;X-ADDRESS=Döpfer Akademie Nürnberg Keßlerstraße 1 Nürnberg 90489 Deutschland;X-APPLE-RADIUS=500;X-TITLE=Keßlerstraße 1:geo:11.0879904,49.4543144
END:VEVENT
BEGIN:VEVENT
DTSTART;VALUE=DATE:20220521
DTEND;VALUE=DATE:20220525
DTSTAMP:20260425T225142
CREATED:20211110T072521Z
LAST-MODIFIED:20211110T072521Z
UID:10000717-1653091200-1653436799@reflektorische-atemtherapie.de
SUMMARY:Modul2 (Ludwigsburg)
DESCRIPTION:
URL:https://reflektorische-atemtherapie.de/event/modul2-ludwigsburg/
LOCATION:ACADIA Ludwigsburg MFZ\, Martin-Luther-strasse 69\, Ludwigsburg\, 71636
CATEGORIES:Modul 2
GEO:48.8924965;9.1814553
X-APPLE-STRUCTURED-LOCATION;VALUE=URI;X-ADDRESS=ACADIA Ludwigsburg MFZ Martin-Luther-strasse 69 Ludwigsburg 71636;X-APPLE-RADIUS=500;X-TITLE=Martin-Luther-strasse 69:geo:9.1814553,48.8924965
END:VEVENT
BEGIN:VEVENT
DTSTART;VALUE=DATE:20220404
DTEND;VALUE=DATE:20220408
DTSTAMP:20260425T225142
CREATED:20211110T072505Z
LAST-MODIFIED:20211110T072505Z
UID:10000715-1649030400-1649375999@reflektorische-atemtherapie.de
SUMMARY:Modul2 (Nürnberg)
DESCRIPTION:
URL:https://reflektorische-atemtherapie.de/event/modul2-nuernberg/
LOCATION:Döpfer Akademie Nürnberg\, Keßlerstraße 1\, Nürnberg\, 90489\, Deutschland
CATEGORIES:Modul 2
GEO:49.4543144;11.0879904
X-APPLE-STRUCTURED-LOCATION;VALUE=URI;X-ADDRESS=Döpfer Akademie Nürnberg Keßlerstraße 1 Nürnberg 90489 Deutschland;X-APPLE-RADIUS=500;X-TITLE=Keßlerstraße 1:geo:11.0879904,49.4543144
END:VEVENT
BEGIN:VEVENT
DTSTART;VALUE=DATE:20220310
DTEND;VALUE=DATE:20220314
DTSTAMP:20260425T225142
CREATED:20211110T072444Z
LAST-MODIFIED:20211110T072444Z
UID:10000893-1646870400-1647215999@reflektorische-atemtherapie.de
SUMMARY:Modul2 (Hannover)
DESCRIPTION:
URL:https://reflektorische-atemtherapie.de/event/modul2-hannover-2/
LOCATION:MFZ Hannover\, Hildesheimer Str. 265\, Hannover\, 30519\, Deutschland
CATEGORIES:Modul 2
GEO:52.3377426;9.7696641
X-APPLE-STRUCTURED-LOCATION;VALUE=URI;X-ADDRESS=MFZ Hannover Hildesheimer Str. 265 Hannover 30519 Deutschland;X-APPLE-RADIUS=500;X-TITLE=Hildesheimer Str. 265:geo:9.7696641,52.3377426
END:VEVENT
BEGIN:VEVENT
DTSTART;VALUE=DATE:20220130
DTEND;VALUE=DATE:20220203
DTSTAMP:20260425T225142
CREATED:20211110T072426Z
LAST-MODIFIED:20211110T072426Z
UID:10000892-1643500800-1643846399@reflektorische-atemtherapie.de
SUMMARY:Modul1 (Ludwigsburg)
DESCRIPTION:
URL:https://reflektorische-atemtherapie.de/event/modul1-ludwigsburg/
LOCATION:ACADIA Ludwigsburg MFZ\, Martin-Luther-strasse 69\, Ludwigsburg\, 71636
CATEGORIES:Modul 1
GEO:48.8924965;9.1814553
X-APPLE-STRUCTURED-LOCATION;VALUE=URI;X-ADDRESS=ACADIA Ludwigsburg MFZ Martin-Luther-strasse 69 Ludwigsburg 71636;X-APPLE-RADIUS=500;X-TITLE=Martin-Luther-strasse 69:geo:9.1814553,48.8924965
END:VEVENT
BEGIN:VEVENT
DTSTART;VALUE=DATE:20210916
DTEND;VALUE=DATE:20210920
DTSTAMP:20260425T225142
CREATED:20191107T110428Z
LAST-MODIFIED:20210527T132634Z
UID:10000628-1631750400-1632095999@reflektorische-atemtherapie.de
SUMMARY:Modul 3  (Hannover)
DESCRIPTION:
URL:https://reflektorische-atemtherapie.de/event/therapiekurs-hannover-2/
LOCATION:MFZ Hannover\, Hildesheimer Str. 265\, Hannover\, 30519\, Deutschland
CATEGORIES:Modul 3
GEO:52.3377426;9.7696641
X-APPLE-STRUCTURED-LOCATION;VALUE=URI;X-ADDRESS=MFZ Hannover Hildesheimer Str. 265 Hannover 30519 Deutschland;X-APPLE-RADIUS=500;X-TITLE=Hildesheimer Str. 265:geo:9.7696641,52.3377426
END:VEVENT
BEGIN:VEVENT
DTSTART;VALUE=DATE:20210415
DTEND;VALUE=DATE:20210419
DTSTAMP:20260425T225142
CREATED:20210302T221214Z
LAST-MODIFIED:20210302T221214Z
UID:10000834-1618444800-1618790399@reflektorische-atemtherapie.de
SUMMARY:Modul2 (Hannover)
DESCRIPTION:
URL:https://reflektorische-atemtherapie.de/event/modul2-hannover/
LOCATION:MFZ Hannover\, Hildesheimer Str. 265\, Hannover\, 30519\, Deutschland
CATEGORIES:Modul 2
GEO:52.3377426;9.7696641
X-APPLE-STRUCTURED-LOCATION;VALUE=URI;X-ADDRESS=MFZ Hannover Hildesheimer Str. 265 Hannover 30519 Deutschland;X-APPLE-RADIUS=500;X-TITLE=Hildesheimer Str. 265:geo:9.7696641,52.3377426
END:VEVENT
BEGIN:VEVENT
DTSTART;VALUE=DATE:20210415
DTEND;VALUE=DATE:20210419
DTSTAMP:20260425T225142
CREATED:20191107T105859Z
LAST-MODIFIED:20191107T105859Z
UID:10000627-1618444800-1618790399@reflektorische-atemtherapie.de
SUMMARY:Aufbaukurs / Modul 2  (Hannover)
DESCRIPTION:
URL:https://reflektorische-atemtherapie.de/event/aufbaukurs-hannover-5/
LOCATION:MFZ Hannover\, Hildesheimer Str. 265\, Hannover\, 30519\, Deutschland
CATEGORIES:Modul 2
GEO:52.3377426;9.7696641
X-APPLE-STRUCTURED-LOCATION;VALUE=URI;X-ADDRESS=MFZ Hannover Hildesheimer Str. 265 Hannover 30519 Deutschland;X-APPLE-RADIUS=500;X-TITLE=Hildesheimer Str. 265:geo:9.7696641,52.3377426
END:VEVENT
BEGIN:VEVENT
DTSTART;VALUE=DATE:20201127
DTEND;VALUE=DATE:20201201
DTSTAMP:20260425T225142
CREATED:20200809T155841Z
LAST-MODIFIED:20200809T155841Z
UID:10000799-1606435200-1606780799@reflektorische-atemtherapie.de
SUMMARY:Grundkurs / Modul1  (Nürnberg)
DESCRIPTION:
URL:https://reflektorische-atemtherapie.de/event/grundkurs-modul1-nuernberg/
LOCATION:Döpfer Akademie Nürnberg\, Keßlerstraße 1\, Nürnberg\, 90489\, Deutschland
CATEGORIES:Modul 1
GEO:49.4543144;11.0879904
X-APPLE-STRUCTURED-LOCATION;VALUE=URI;X-ADDRESS=Döpfer Akademie Nürnberg Keßlerstraße 1 Nürnberg 90489 Deutschland;X-APPLE-RADIUS=500;X-TITLE=Keßlerstraße 1:geo:11.0879904,49.4543144
END:VEVENT
BEGIN:VEVENT
DTSTART;VALUE=DATE:20201118
DTEND;VALUE=DATE:20201122
DTSTAMP:20260425T225142
CREATED:20200809T155453Z
LAST-MODIFIED:20200809T155453Z
UID:10000798-1605657600-1606003199@reflektorische-atemtherapie.de
SUMMARY:Grundkurs / Modul1  (Donaustaut/Regensburg)
DESCRIPTION:
URL:https://reflektorische-atemtherapie.de/event/grundkurs-modul1-donaustaut-regensburg/
LOCATION:Eden Reha Fobi GmbH Donaustauf/Regensburg\, Lessingstraße 39 - 41\, Donaustauf/Regensburg\, 93093\, Deutschland
CATEGORIES:Modul 1
GEO:49.03484;12.21924
X-APPLE-STRUCTURED-LOCATION;VALUE=URI;X-ADDRESS=Eden Reha Fobi GmbH Donaustauf/Regensburg Lessingstraße 39 - 41 Donaustauf/Regensburg 93093 Deutschland;X-APPLE-RADIUS=500;X-TITLE=Lessingstraße 39 - 41:geo:12.21924,49.03484
END:VEVENT
BEGIN:VEVENT
DTSTART;VALUE=DATE:20201019
DTEND;VALUE=DATE:20201023
DTSTAMP:20260425T225142
CREATED:20200809T155119Z
LAST-MODIFIED:20200809T155119Z
UID:10000797-1603065600-1603411199@reflektorische-atemtherapie.de
SUMMARY:Aufbaukurs / Modul2  (Ludwigsburg)
DESCRIPTION:
URL:https://reflektorische-atemtherapie.de/event/aufbaukurs-modul2-ludwigsburg/
LOCATION:ACADIA Ludwigsburg MFZ\, Martin-Luther-strasse 69\, Ludwigsburg\, 71636
CATEGORIES:Modul 2
GEO:48.8924965;9.1814553
X-APPLE-STRUCTURED-LOCATION;VALUE=URI;X-ADDRESS=ACADIA Ludwigsburg MFZ Martin-Luther-strasse 69 Ludwigsburg 71636;X-APPLE-RADIUS=500;X-TITLE=Martin-Luther-strasse 69:geo:9.1814553,48.8924965
END:VEVENT
BEGIN:VEVENT
DTSTART;VALUE=DATE:20201008
DTEND;VALUE=DATE:20201012
DTSTAMP:20260425T225142
CREATED:20200809T155009Z
LAST-MODIFIED:20200809T155009Z
UID:10000796-1602115200-1602460799@reflektorische-atemtherapie.de
SUMMARY:Grundkurs / Modul1 (Hannover)
DESCRIPTION:
URL:https://reflektorische-atemtherapie.de/event/grundkurs-modul1-hannover/
LOCATION:MFZ Hannover\, Hildesheimer Str. 265\, Hannover\, 30519\, Deutschland
CATEGORIES:Modul 1
GEO:52.3377426;9.7696641
X-APPLE-STRUCTURED-LOCATION;VALUE=URI;X-ADDRESS=MFZ Hannover Hildesheimer Str. 265 Hannover 30519 Deutschland;X-APPLE-RADIUS=500;X-TITLE=Hildesheimer Str. 265:geo:9.7696641,52.3377426
END:VEVENT
BEGIN:VEVENT
DTSTART;VALUE=DATE:20200924
DTEND;VALUE=DATE:20200928
DTSTAMP:20260425T225142
CREATED:20200809T154756Z
LAST-MODIFIED:20200809T154756Z
UID:10000795-1600905600-1601251199@reflektorische-atemtherapie.de
SUMMARY:Aufbaukurs / Modul2 (Hannover)
DESCRIPTION:
URL:https://reflektorische-atemtherapie.de/event/aufbaukurs-modul2-hannover/
LOCATION:MFZ Hannover\, Hildesheimer Str. 265\, Hannover\, 30519\, Deutschland
CATEGORIES:Modul 2
GEO:52.3377426;9.7696641
X-APPLE-STRUCTURED-LOCATION;VALUE=URI;X-ADDRESS=MFZ Hannover Hildesheimer Str. 265 Hannover 30519 Deutschland;X-APPLE-RADIUS=500;X-TITLE=Hildesheimer Str. 265:geo:9.7696641,52.3377426
END:VEVENT
BEGIN:VEVENT
DTSTART;VALUE=DATE:20200702
DTEND;VALUE=DATE:20200706
DTSTAMP:20260425T225142
CREATED:20190331T193401Z
LAST-MODIFIED:20190331T193401Z
UID:10000736-1593648000-1593993599@reflektorische-atemtherapie.de
SUMMARY:Aufbaukurs / Modul 2  (Nürnberg)
DESCRIPTION:
URL:https://reflektorische-atemtherapie.de/event/aufbaukurs-nuernberg-3/
CATEGORIES:Modul 2
END:VEVENT
BEGIN:VEVENT
DTSTART;VALUE=DATE:20200624
DTEND;VALUE=DATE:20200628
DTSTAMP:20260425T225142
CREATED:20191107T105105Z
LAST-MODIFIED:20191107T105105Z
UID:10000764-1592956800-1593302399@reflektorische-atemtherapie.de
SUMMARY:Grundkurs / Modul 1  (Donaustauf/Regensburg)
DESCRIPTION:
URL:https://reflektorische-atemtherapie.de/event/grundkurs-donaustauf-regensburg/
LOCATION:Eden Reha Fobi GmbH Donaustauf/Regensburg\, Lessingstraße 39 - 41\, Donaustauf/Regensburg\, 93093\, Deutschland
CATEGORIES:Modul 1
GEO:49.03484;12.21924
X-APPLE-STRUCTURED-LOCATION;VALUE=URI;X-ADDRESS=Eden Reha Fobi GmbH Donaustauf/Regensburg Lessingstraße 39 - 41 Donaustauf/Regensburg 93093 Deutschland;X-APPLE-RADIUS=500;X-TITLE=Lessingstraße 39 - 41:geo:12.21924,49.03484
END:VEVENT
BEGIN:VEVENT
DTSTART;VALUE=DATE:20200423
DTEND;VALUE=DATE:20200427
DTSTAMP:20260425T225142
CREATED:20190331T193258Z
LAST-MODIFIED:20190331T193258Z
UID:10000735-1587600000-1587945599@reflektorische-atemtherapie.de
SUMMARY:Aufbaukurs / Modul 2  (Hannover)
DESCRIPTION:
URL:https://reflektorische-atemtherapie.de/event/aufbaukurs-hannover-3/
LOCATION:MFZ Hannover\, Hildesheimer Str. 265\, Hannover\, 30519\, Deutschland
CATEGORIES:Modul 2
GEO:52.3377426;9.7696641
X-APPLE-STRUCTURED-LOCATION;VALUE=URI;X-ADDRESS=MFZ Hannover Hildesheimer Str. 265 Hannover 30519 Deutschland;X-APPLE-RADIUS=500;X-TITLE=Hildesheimer Str. 265:geo:9.7696641,52.3377426
END:VEVENT
BEGIN:VEVENT
DTSTART;VALUE=DATE:20200415
DTEND;VALUE=DATE:20200419
DTSTAMP:20260425T225142
CREATED:20191107T105446Z
LAST-MODIFIED:20191107T105446Z
UID:10000766-1586908800-1587254399@reflektorische-atemtherapie.de
SUMMARY:Aufbaukurs / Modul 2  (Hannover)
DESCRIPTION:
URL:https://reflektorische-atemtherapie.de/event/aufbaukurs-hannover-4/
LOCATION:MFZ Hannover\, Hildesheimer Str. 265\, Hannover\, 30519\, Deutschland
CATEGORIES:Modul 2
GEO:52.3377426;9.7696641
X-APPLE-STRUCTURED-LOCATION;VALUE=URI;X-ADDRESS=MFZ Hannover Hildesheimer Str. 265 Hannover 30519 Deutschland;X-APPLE-RADIUS=500;X-TITLE=Hildesheimer Str. 265:geo:9.7696641,52.3377426
END:VEVENT
BEGIN:VEVENT
DTSTART;VALUE=DATE:20200116
DTEND;VALUE=DATE:20200120
DTSTAMP:20260425T225142
CREATED:20191107T104846Z
LAST-MODIFIED:20191107T104846Z
UID:10000762-1579132800-1579478399@reflektorische-atemtherapie.de
SUMMARY:Grundkurs / Modul 1  (Hannover/Ludwigsburg)
DESCRIPTION:
URL:https://reflektorische-atemtherapie.de/event/grundkurs-hannover-ludwigsburg/
LOCATION:MFZ Hannover\, Hildesheimer Str. 265\, Hannover\, 30519\, Deutschland
CATEGORIES:Modul 1
GEO:52.3377426;9.7696641
X-APPLE-STRUCTURED-LOCATION;VALUE=URI;X-ADDRESS=MFZ Hannover Hildesheimer Str. 265 Hannover 30519 Deutschland;X-APPLE-RADIUS=500;X-TITLE=Hildesheimer Str. 265:geo:9.7696641,52.3377426
END:VEVENT
BEGIN:VEVENT
DTSTART;VALUE=DATE:20181115
DTEND;VALUE=DATE:20181119
DTSTAMP:20260425T225142
CREATED:20180417T214837Z
LAST-MODIFIED:20180417T214837Z
UID:10000695-1542240000-1542585599@reflektorische-atemtherapie.de
SUMMARY:Grundkurs (Hannover)
DESCRIPTION:
URL:https://reflektorische-atemtherapie.de/event/grundkurs-hannover/
LOCATION:MFZ Hannover\, Hildesheimer Str. 265\, Hannover\, 30519\, Deutschland
CATEGORIES:Modul 1
GEO:52.3377426;9.7696641
X-APPLE-STRUCTURED-LOCATION;VALUE=URI;X-ADDRESS=MFZ Hannover Hildesheimer Str. 265 Hannover 30519 Deutschland;X-APPLE-RADIUS=500;X-TITLE=Hildesheimer Str. 265:geo:9.7696641,52.3377426
END:VEVENT
BEGIN:VEVENT
DTSTART;VALUE=DATE:20181108
DTEND;VALUE=DATE:20181112
DTSTAMP:20260425T225142
CREATED:20180417T214721Z
LAST-MODIFIED:20180417T214721Z
UID:10000693-1541635200-1541980799@reflektorische-atemtherapie.de
SUMMARY:Aufbaukurs (Donaustauf)
DESCRIPTION:
URL:https://reflektorische-atemtherapie.de/event/aufbaukurs-donaustauf-2/
LOCATION:Eden Reha Fobi GmbH Donaustauf/Regensburg\, Lessingstraße 39 - 41\, Donaustauf/Regensburg\, 93093\, Deutschland
CATEGORIES:Modul 2
GEO:49.03484;12.21924
X-APPLE-STRUCTURED-LOCATION;VALUE=URI;X-ADDRESS=Eden Reha Fobi GmbH Donaustauf/Regensburg Lessingstraße 39 - 41 Donaustauf/Regensburg 93093 Deutschland;X-APPLE-RADIUS=500;X-TITLE=Lessingstraße 39 - 41:geo:12.21924,49.03484
END:VEVENT
BEGIN:VEVENT
DTSTART;VALUE=DATE:20180718
DTEND;VALUE=DATE:20180722
DTSTAMP:20260425T225142
CREATED:20180417T214616Z
LAST-MODIFIED:20180417T214616Z
UID:10000692-1531872000-1532217599@reflektorische-atemtherapie.de
SUMMARY:Grundkurs (Donaustauf)
DESCRIPTION:
URL:https://reflektorische-atemtherapie.de/event/grundkurs-donaustauf-2/
LOCATION:Eden Reha Fobi GmbH Donaustauf/Regensburg\, Lessingstraße 39 - 41\, Donaustauf/Regensburg\, 93093\, Deutschland
CATEGORIES:Modul 1
GEO:49.03484;12.21924
X-APPLE-STRUCTURED-LOCATION;VALUE=URI;X-ADDRESS=Eden Reha Fobi GmbH Donaustauf/Regensburg Lessingstraße 39 - 41 Donaustauf/Regensburg 93093 Deutschland;X-APPLE-RADIUS=500;X-TITLE=Lessingstraße 39 - 41:geo:12.21924,49.03484
END:VEVENT
BEGIN:VEVENT
DTSTART;VALUE=DATE:20180621
DTEND;VALUE=DATE:20180625
DTSTAMP:20260425T225142
CREATED:20180417T214218Z
LAST-MODIFIED:20180417T214218Z
UID:10000691-1529539200-1529884799@reflektorische-atemtherapie.de
SUMMARY:Aufbaukurs (Hannover)
DESCRIPTION:
URL:https://reflektorische-atemtherapie.de/event/aufbaukurs-hannover-2/
LOCATION:MFZ Hannover\, Hildesheimer Str. 265\, Hannover\, 30519\, Deutschland
CATEGORIES:Modul 2
GEO:52.3377426;9.7696641
X-APPLE-STRUCTURED-LOCATION;VALUE=URI;X-ADDRESS=MFZ Hannover Hildesheimer Str. 265 Hannover 30519 Deutschland;X-APPLE-RADIUS=500;X-TITLE=Hildesheimer Str. 265:geo:9.7696641,52.3377426
END:VEVENT
BEGIN:VEVENT
DTSTART;VALUE=DATE:20180425
DTEND;VALUE=DATE:20180429
DTSTAMP:20260425T225142
CREATED:20170613T190217Z
LAST-MODIFIED:20170613T190217Z
UID:10000645-1524614400-1524959999@reflektorische-atemtherapie.de
SUMMARY:Therapiekurs (Donaustauf)
DESCRIPTION:
URL:https://reflektorische-atemtherapie.de/event/therapiekurs-donaustauf-3/
LOCATION:Eden Reha Fobi GmbH Donaustauf/Regensburg\, Lessingstraße 39 - 41\, Donaustauf/Regensburg\, 93093\, Deutschland
CATEGORIES:Modul 3
GEO:49.03484;12.21924
X-APPLE-STRUCTURED-LOCATION;VALUE=URI;X-ADDRESS=Eden Reha Fobi GmbH Donaustauf/Regensburg Lessingstraße 39 - 41 Donaustauf/Regensburg 93093 Deutschland;X-APPLE-RADIUS=500;X-TITLE=Lessingstraße 39 - 41:geo:12.21924,49.03484
END:VEVENT
BEGIN:VEVENT
DTSTART;VALUE=DATE:20180214
DTEND;VALUE=DATE:20180218
DTSTAMP:20260425T225143
CREATED:20170613T185303Z
LAST-MODIFIED:20170613T185303Z
UID:10000552-1518566400-1518911999@reflektorische-atemtherapie.de
SUMMARY:Therapiekurs (Rinteln)
DESCRIPTION:
URL:https://reflektorische-atemtherapie.de/event/therapiekursrinteln/
LOCATION:Rinteln\, Rinteln
CATEGORIES:Modul 3
GEO:52.2020461;9.0759703
END:VEVENT
BEGIN:VEVENT
DTSTART;VALUE=DATE:20180207
DTEND;VALUE=DATE:20180211
DTSTAMP:20260425T225143
CREATED:20170613T185125Z
LAST-MODIFIED:20170613T185125Z
UID:10000551-1517961600-1518307199@reflektorische-atemtherapie.de
SUMMARY:Grundkurs (Rinteln)
DESCRIPTION:
URL:https://reflektorische-atemtherapie.de/event/grundkurs-rinteln-3/
LOCATION:Rinteln\, Rinteln
CATEGORIES:Modul 1
GEO:52.2020461;9.0759703
END:VEVENT
BEGIN:VEVENT
DTSTART;TZID=Europe/Berlin:20180124T080000
DTEND;TZID=Europe/Berlin:20180127T170000
DTSTAMP:20260425T225143
CREATED:20170613T184110Z
LAST-MODIFIED:20170613T184110Z
UID:10000550-1516780800-1517072400@reflektorische-atemtherapie.de
SUMMARY:Grundkurs (Donaustauf)
DESCRIPTION:
URL:https://reflektorische-atemtherapie.de/event/grundkurs-donaustauf/
LOCATION:Eden Reha Fobi GmbH Donaustauf/Regensburg\, Lessingstraße 39 - 41\, Donaustauf/Regensburg\, 93093\, Deutschland
CATEGORIES:Modul 1
GEO:49.03484;12.21924
X-APPLE-STRUCTURED-LOCATION;VALUE=URI;X-ADDRESS=Eden Reha Fobi GmbH Donaustauf/Regensburg Lessingstraße 39 - 41 Donaustauf/Regensburg 93093 Deutschland;X-APPLE-RADIUS=500;X-TITLE=Lessingstraße 39 - 41:geo:12.21924,49.03484
END:VEVENT
END:VCALENDAR