BEGIN:VCALENDAR
VERSION:2.0
PRODID:-//Reflektorische Atemtherapie - ECPv6.15.18//NONSGML v1.0//EN
CALSCALE:GREGORIAN
METHOD:PUBLISH
X-ORIGINAL-URL:https://reflektorische-atemtherapie.de
X-WR-CALDESC:Veranstaltungen für Reflektorische Atemtherapie
REFRESH-INTERVAL;VALUE=DURATION:PT1H
X-Robots-Tag:noindex
X-PUBLISHED-TTL:PT1H
BEGIN:VTIMEZONE
TZID:Europe/Berlin
BEGIN:DAYLIGHT
TZOFFSETFROM:+0100
TZOFFSETTO:+0200
TZNAME:CEST
DTSTART:20160327T010000
END:DAYLIGHT
BEGIN:STANDARD
TZOFFSETFROM:+0200
TZOFFSETTO:+0100
TZNAME:CET
DTSTART:20161030T010000
END:STANDARD
BEGIN:DAYLIGHT
TZOFFSETFROM:+0100
TZOFFSETTO:+0200
TZNAME:CEST
DTSTART:20170326T010000
END:DAYLIGHT
BEGIN:STANDARD
TZOFFSETFROM:+0200
TZOFFSETTO:+0100
TZNAME:CET
DTSTART:20171029T010000
END:STANDARD
BEGIN:DAYLIGHT
TZOFFSETFROM:+0100
TZOFFSETTO:+0200
TZNAME:CEST
DTSTART:20180325T010000
END:DAYLIGHT
BEGIN:STANDARD
TZOFFSETFROM:+0200
TZOFFSETTO:+0100
TZNAME:CET
DTSTART:20181028T010000
END:STANDARD
END:VTIMEZONE
BEGIN:VEVENT
DTSTART;VALUE=DATE:20171122
DTEND;VALUE=DATE:20171126
DTSTAMP:20260426T025205
CREATED:20161005T143443Z
LAST-MODIFIED:20161005T143443Z
UID:10000564-1511308800-1511654399@reflektorische-atemtherapie.de
SUMMARY:Aufbaukurs (Donaustauf)
DESCRIPTION:
URL:https://reflektorische-atemtherapie.de/event/therapiekurs-donaustauf/
CATEGORIES:Modul 3
END:VEVENT
BEGIN:VEVENT
DTSTART;VALUE=DATE:20171111
DTEND;VALUE=DATE:20171115
DTSTAMP:20260426T025205
CREATED:20170129T100958Z
LAST-MODIFIED:20170129T100958Z
UID:10000625-1510358400-1510703999@reflektorische-atemtherapie.de
SUMMARY:Therapiekurs (Donaustauf)
DESCRIPTION:
URL:https://reflektorische-atemtherapie.de/event/therapiekurs-donaustauf-2/
CATEGORIES:Modul 3
END:VEVENT
BEGIN:VEVENT
DTSTART;VALUE=DATE:20170927
DTEND;VALUE=DATE:20171001
DTSTAMP:20260426T025206
CREATED:20161005T141033Z
LAST-MODIFIED:20161005T141033Z
UID:10000560-1506470400-1506815999@reflektorische-atemtherapie.de
SUMMARY:Aufbaukurs (Rinteln)
DESCRIPTION:
URL:https://reflektorische-atemtherapie.de/event/aufbaukurs-rinteln/
LOCATION:Rinteln\, Rinteln
CATEGORIES:Modul 2
GEO:52.2020461;9.0759703
END:VEVENT
BEGIN:VEVENT
DTSTART;VALUE=DATE:20170617
DTEND;VALUE=DATE:20170621
DTSTAMP:20260426T025206
CREATED:20170113T100539Z
LAST-MODIFIED:20170113T100539Z
UID:10000613-1497657600-1498003199@reflektorische-atemtherapie.de
SUMMARY:Aufbaukurs (Donaustauf)
DESCRIPTION:
URL:https://reflektorische-atemtherapie.de/event/aufbaukurs-donaustauf/
CATEGORIES:Modul 2
END:VEVENT
BEGIN:VEVENT
DTSTART;VALUE=DATE:20170503
DTEND;VALUE=DATE:20170507
DTSTAMP:20260426T025206
CREATED:20161222T113513Z
LAST-MODIFIED:20161222T113513Z
UID:10000573-1493769600-1494115199@reflektorische-atemtherapie.de
SUMMARY:Grundkurs (Donaustauf )
DESCRIPTION:
URL:https://reflektorische-atemtherapie.de/event/aufbaukurs-donaustauf-2017-05-03/
LOCATION:Eden Reha Fobi GmbH Donaustauf/Regensburg\, Lessingstraße 39 - 41\, Donaustauf/Regensburg\, 93093\, Deutschland
CATEGORIES:Modul 1
GEO:49.03484;12.21924
X-APPLE-STRUCTURED-LOCATION;VALUE=URI;X-ADDRESS=Eden Reha Fobi GmbH Donaustauf/Regensburg Lessingstraße 39 - 41 Donaustauf/Regensburg 93093 Deutschland;X-APPLE-RADIUS=500;X-TITLE=Lessingstraße 39 - 41:geo:12.21924,49.03484
END:VEVENT
BEGIN:VEVENT
DTSTART;VALUE=DATE:20170208
DTEND;VALUE=DATE:20170212
DTSTAMP:20260426T025206
CREATED:20161222T144714Z
LAST-MODIFIED:20161222T144714Z
UID:10000591-1486512000-1486857599@reflektorische-atemtherapie.de
SUMMARY:Grundkurs (Rinteln)
DESCRIPTION:
URL:https://reflektorische-atemtherapie.de/event/grundkurs-rinteln/
LOCATION:Schaumburg Fortbildungssemina\, Rinteln
CATEGORIES:Modul 1
GEO:52.2020461;9.0759703
END:VEVENT
END:VCALENDAR