BEGIN:VCALENDAR
VERSION:2.0
PRODID:-//Reflektorische Atemtherapie - ECPv6.15.18//NONSGML v1.0//EN
CALSCALE:GREGORIAN
METHOD:PUBLISH
X-ORIGINAL-URL:https://reflektorische-atemtherapie.de
X-WR-CALDESC:Veranstaltungen für Reflektorische Atemtherapie
REFRESH-INTERVAL;VALUE=DURATION:PT1H
X-Robots-Tag:noindex
X-PUBLISHED-TTL:PT1H
BEGIN:VTIMEZONE
TZID:Europe/Berlin
BEGIN:DAYLIGHT
TZOFFSETFROM:+0100
TZOFFSETTO:+0200
TZNAME:CEST
DTSTART:20160327T010000
END:DAYLIGHT
BEGIN:STANDARD
TZOFFSETFROM:+0200
TZOFFSETTO:+0100
TZNAME:CET
DTSTART:20161030T010000
END:STANDARD
BEGIN:DAYLIGHT
TZOFFSETFROM:+0100
TZOFFSETTO:+0200
TZNAME:CEST
DTSTART:20170326T010000
END:DAYLIGHT
BEGIN:STANDARD
TZOFFSETFROM:+0200
TZOFFSETTO:+0100
TZNAME:CET
DTSTART:20171029T010000
END:STANDARD
BEGIN:DAYLIGHT
TZOFFSETFROM:+0100
TZOFFSETTO:+0200
TZNAME:CEST
DTSTART:20180325T010000
END:DAYLIGHT
BEGIN:STANDARD
TZOFFSETFROM:+0200
TZOFFSETTO:+0100
TZNAME:CET
DTSTART:20181028T010000
END:STANDARD
END:VTIMEZONE
BEGIN:VEVENT
DTSTART;VALUE=DATE:20170831
DTEND;VALUE=DATE:20170904
DTSTAMP:20260420T120407
CREATED:20161222T133457Z
LAST-MODIFIED:20161222T133457Z
UID:10000578-1504137600-1504483199@reflektorische-atemtherapie.de
SUMMARY:Grundkurs (Osnabrück)
DESCRIPTION:
URL:https://reflektorische-atemtherapie.de/event/grundkurs-osnabrueck/
LOCATION:Akademie Klinikum Osnabrück\,  Möserstraße 7\, Osnabrück\, 49074\, Deutschland
CATEGORIES:Modul 1
ORGANIZER;CN="Gabriela Gr%C3%B6ne-Ostendorff":MAILTO:groene-ostendorff@t-online.de
GEO:52.2744542;8.0494655
X-APPLE-STRUCTURED-LOCATION;VALUE=URI;X-ADDRESS=Akademie Klinikum Osnabrück  Möserstraße 7 Osnabrück 49074 Deutschland;X-APPLE-RADIUS=500;X-TITLE=Möserstraße 7:geo:8.0494655,52.2744542
END:VEVENT
END:VCALENDAR