BEGIN:VCALENDAR
VERSION:2.0
PRODID:-//Reflektorische Atemtherapie - ECPv6.15.18//NONSGML v1.0//EN
CALSCALE:GREGORIAN
METHOD:PUBLISH
X-ORIGINAL-URL:https://reflektorische-atemtherapie.de
X-WR-CALDESC:Veranstaltungen für Reflektorische Atemtherapie
REFRESH-INTERVAL;VALUE=DURATION:PT1H
X-Robots-Tag:noindex
X-PUBLISHED-TTL:PT1H
BEGIN:VTIMEZONE
TZID:Europe/Berlin
BEGIN:DAYLIGHT
TZOFFSETFROM:+0100
TZOFFSETTO:+0200
TZNAME:CEST
DTSTART:20200329T010000
END:DAYLIGHT
BEGIN:STANDARD
TZOFFSETFROM:+0200
TZOFFSETTO:+0100
TZNAME:CET
DTSTART:20201025T010000
END:STANDARD
BEGIN:DAYLIGHT
TZOFFSETFROM:+0100
TZOFFSETTO:+0200
TZNAME:CEST
DTSTART:20210328T010000
END:DAYLIGHT
BEGIN:STANDARD
TZOFFSETFROM:+0200
TZOFFSETTO:+0100
TZNAME:CET
DTSTART:20211031T010000
END:STANDARD
BEGIN:DAYLIGHT
TZOFFSETFROM:+0100
TZOFFSETTO:+0200
TZNAME:CEST
DTSTART:20220327T010000
END:DAYLIGHT
BEGIN:STANDARD
TZOFFSETFROM:+0200
TZOFFSETTO:+0100
TZNAME:CET
DTSTART:20221030T010000
END:STANDARD
BEGIN:DAYLIGHT
TZOFFSETFROM:+0100
TZOFFSETTO:+0200
TZNAME:CEST
DTSTART:20230326T010000
END:DAYLIGHT
BEGIN:STANDARD
TZOFFSETFROM:+0200
TZOFFSETTO:+0100
TZNAME:CET
DTSTART:20231029T010000
END:STANDARD
END:VTIMEZONE
BEGIN:VEVENT
DTSTART;VALUE=DATE:20220120
DTEND;VALUE=DATE:20220124
DTSTAMP:20260423T200006
CREATED:20210927T081735Z
LAST-MODIFIED:20210927T081735Z
UID:10000710-1642636800-1642982399@reflektorische-atemtherapie.de
SUMMARY:Modul 3 (Essen)
DESCRIPTION:
URL:https://reflektorische-atemtherapie.de/event/modul-3-essen/
LOCATION:FobiZe Essen\, Brunnsiepen 1\, Essen\, 45259
CATEGORIES:Modul 3
ORGANIZER;CN="Gabriela Gr%C3%B6ne-Ostendorff":MAILTO:groene-ostendorff@t-online.de
GEO:51.4020423;7.0713618
X-APPLE-STRUCTURED-LOCATION;VALUE=URI;X-ADDRESS=FobiZe Essen Brunnsiepen 1 Essen 45259;X-APPLE-RADIUS=500;X-TITLE=Brunnsiepen 1:geo:7.0713618,51.4020423
END:VEVENT
BEGIN:VEVENT
DTSTART;VALUE=DATE:20211014
DTEND;VALUE=DATE:20211018
DTSTAMP:20260423T200006
CREATED:20201011T182045Z
LAST-MODIFIED:20210527T132505Z
UID:10000811-1634169600-1634515199@reflektorische-atemtherapie.de
SUMMARY:Modul 2  (Essen)
DESCRIPTION:
URL:https://reflektorische-atemtherapie.de/event/modul-iii-essen/
LOCATION:FobiZe Essen\, Brunnsiepen 1\, Essen\, 45259
CATEGORIES:Modul 2
ORGANIZER;CN="Gabriela Gr%C3%B6ne-Ostendorff":MAILTO:groene-ostendorff@t-online.de
GEO:51.4020423;7.0713618
X-APPLE-STRUCTURED-LOCATION;VALUE=URI;X-ADDRESS=FobiZe Essen Brunnsiepen 1 Essen 45259;X-APPLE-RADIUS=500;X-TITLE=Brunnsiepen 1:geo:7.0713618,51.4020423
END:VEVENT
BEGIN:VEVENT
DTSTART;VALUE=DATE:20210701
DTEND;VALUE=DATE:20210705
DTSTAMP:20260423T200006
CREATED:20201011T193206Z
LAST-MODIFIED:20210527T132404Z
UID:10000664-1625097600-1625443199@reflektorische-atemtherapie.de
SUMMARY:Modul 1 (Essen)
DESCRIPTION:
URL:https://reflektorische-atemtherapie.de/event/modul-i-ulm-2/
LOCATION:FobiZe Essen\, Brunnsiepen 1\, Essen\, 45259
CATEGORIES:Modul 1
ORGANIZER;CN="Gabriela Gr%C3%B6ne-Ostendorff":MAILTO:groene-ostendorff@t-online.de
GEO:51.4020423;7.0713618
X-APPLE-STRUCTURED-LOCATION;VALUE=URI;X-ADDRESS=FobiZe Essen Brunnsiepen 1 Essen 45259;X-APPLE-RADIUS=500;X-TITLE=Brunnsiepen 1:geo:7.0713618,51.4020423
END:VEVENT
BEGIN:VEVENT
DTSTART;VALUE=DATE:20210107
DTEND;VALUE=DATE:20210111
DTSTAMP:20260423T200006
CREATED:20201011T181637Z
LAST-MODIFIED:20201011T184726Z
UID:10000807-1609977600-1610323199@reflektorische-atemtherapie.de
SUMMARY:Modul I  (Essen)
DESCRIPTION:
URL:https://reflektorische-atemtherapie.de/event/modul-i-essen/
LOCATION:FobiZe Essen\, Brunnsiepen 1\, Essen\, 45259
CATEGORIES:Modul 1
ORGANIZER;CN="Gabriela Gr%C3%B6ne-Ostendorff":MAILTO:groene-ostendorff@t-online.de
GEO:51.4020423;7.0713618
X-APPLE-STRUCTURED-LOCATION;VALUE=URI;X-ADDRESS=FobiZe Essen Brunnsiepen 1 Essen 45259;X-APPLE-RADIUS=500;X-TITLE=Brunnsiepen 1:geo:7.0713618,51.4020423
END:VEVENT
END:VCALENDAR