BEGIN:VCALENDAR
VERSION:2.0
PRODID:-//Reflektorische Atemtherapie - ECPv6.15.18//NONSGML v1.0//EN
CALSCALE:GREGORIAN
METHOD:PUBLISH
X-ORIGINAL-URL:https://reflektorische-atemtherapie.de
X-WR-CALDESC:Veranstaltungen für Reflektorische Atemtherapie
REFRESH-INTERVAL;VALUE=DURATION:PT1H
X-Robots-Tag:noindex
X-PUBLISHED-TTL:PT1H
BEGIN:VTIMEZONE
TZID:Europe/Berlin
BEGIN:DAYLIGHT
TZOFFSETFROM:+0100
TZOFFSETTO:+0200
TZNAME:CEST
DTSTART:20180325T010000
END:DAYLIGHT
BEGIN:STANDARD
TZOFFSETFROM:+0200
TZOFFSETTO:+0100
TZNAME:CET
DTSTART:20181028T010000
END:STANDARD
BEGIN:DAYLIGHT
TZOFFSETFROM:+0100
TZOFFSETTO:+0200
TZNAME:CEST
DTSTART:20190331T010000
END:DAYLIGHT
BEGIN:STANDARD
TZOFFSETFROM:+0200
TZOFFSETTO:+0100
TZNAME:CET
DTSTART:20191027T010000
END:STANDARD
BEGIN:DAYLIGHT
TZOFFSETFROM:+0100
TZOFFSETTO:+0200
TZNAME:CEST
DTSTART:20200329T010000
END:DAYLIGHT
BEGIN:STANDARD
TZOFFSETFROM:+0200
TZOFFSETTO:+0100
TZNAME:CET
DTSTART:20201025T010000
END:STANDARD
BEGIN:DAYLIGHT
TZOFFSETFROM:+0100
TZOFFSETTO:+0200
TZNAME:CEST
DTSTART:20210328T010000
END:DAYLIGHT
BEGIN:STANDARD
TZOFFSETFROM:+0200
TZOFFSETTO:+0100
TZNAME:CET
DTSTART:20211031T010000
END:STANDARD
BEGIN:DAYLIGHT
TZOFFSETFROM:+0100
TZOFFSETTO:+0200
TZNAME:CEST
DTSTART:20220327T010000
END:DAYLIGHT
BEGIN:STANDARD
TZOFFSETFROM:+0200
TZOFFSETTO:+0100
TZNAME:CET
DTSTART:20221030T010000
END:STANDARD
BEGIN:DAYLIGHT
TZOFFSETFROM:+0100
TZOFFSETTO:+0200
TZNAME:CEST
DTSTART:20230326T010000
END:DAYLIGHT
BEGIN:STANDARD
TZOFFSETFROM:+0200
TZOFFSETTO:+0100
TZNAME:CET
DTSTART:20231029T010000
END:STANDARD
BEGIN:DAYLIGHT
TZOFFSETFROM:+0100
TZOFFSETTO:+0200
TZNAME:CEST
DTSTART:20240331T010000
END:DAYLIGHT
BEGIN:STANDARD
TZOFFSETFROM:+0200
TZOFFSETTO:+0100
TZNAME:CET
DTSTART:20241027T010000
END:STANDARD
END:VTIMEZONE
BEGIN:VEVENT
DTSTART;TZID=Europe/Berlin:20230624T093000
DTEND;TZID=Europe/Berlin:20230624T173000
DTSTAMP:20260421T114542
CREATED:20230410T120648Z
LAST-MODIFIED:20230410T120721Z
UID:10000984-1687599000-1687627800@reflektorische-atemtherapie.de
SUMMARY:Refresher (Köln)
DESCRIPTION:
URL:https://reflektorische-atemtherapie.de/event/refresher-koeln-6/
LOCATION:Physioteam Lerch\, Christian-Gau-Str. 12-14\, Köln (Braunsfeld)\, 50933\, Deutschland
CATEGORIES:Refresher
ORGANIZER;CN="Ariane Lerch":MAILTO:info@physioteamlerch.de
GEO:50.93616;6.89947
X-APPLE-STRUCTURED-LOCATION;VALUE=URI;X-ADDRESS=Physioteam Lerch Christian-Gau-Str. 12-14 Köln (Braunsfeld) 50933 Deutschland;X-APPLE-RADIUS=500;X-TITLE=Christian-Gau-Str. 12-14:geo:6.89947,50.93616
END:VEVENT
BEGIN:VEVENT
DTSTART;TZID=Europe/Berlin:20211113T093000
DTEND;TZID=Europe/Berlin:20211113T173000
DTSTAMP:20260421T114542
CREATED:20210923T202929Z
LAST-MODIFIED:20211019T101623Z
UID:10000706-1636795800-1636824600@reflektorische-atemtherapie.de
SUMMARY:Refresher (Köln)  AUSGEBUCHT
DESCRIPTION:
URL:https://reflektorische-atemtherapie.de/event/refresher-koeln-4/
LOCATION:Physioteam Lerch\, Christian-Gau-Str. 12-14\, Köln (Braunsfeld)\, 50933\, Deutschland
CATEGORIES:Refresher
ORGANIZER;CN="Ariane Lerch":MAILTO:info@physioteamlerch.de
GEO:50.93616;6.89947
X-APPLE-STRUCTURED-LOCATION;VALUE=URI;X-ADDRESS=Physioteam Lerch Christian-Gau-Str. 12-14 Köln (Braunsfeld) 50933 Deutschland;X-APPLE-RADIUS=500;X-TITLE=Christian-Gau-Str. 12-14:geo:6.89947,50.93616
END:VEVENT
BEGIN:VEVENT
DTSTART;VALUE=DATE:20201001
DTEND;VALUE=DATE:20201005
DTSTAMP:20260421T114542
CREATED:20200604T084554Z
LAST-MODIFIED:20200604T084554Z
UID:10000794-1601510400-1601855999@reflektorische-atemtherapie.de
SUMMARY:Therapiekurs / Modul3 (Köln)
DESCRIPTION:
URL:https://reflektorische-atemtherapie.de/event/therapiekurs-modul3-koeln/
LOCATION:Physioteam Lerch\, Christian-Gau-Str. 12-14\, Köln (Braunsfeld)\, 50933\, Deutschland
CATEGORIES:Modul 3
ORGANIZER;CN="Ariane Lerch":MAILTO:info@physioteamlerch.de
GEO:50.93616;6.89947
X-APPLE-STRUCTURED-LOCATION;VALUE=URI;X-ADDRESS=Physioteam Lerch Christian-Gau-Str. 12-14 Köln (Braunsfeld) 50933 Deutschland;X-APPLE-RADIUS=500;X-TITLE=Christian-Gau-Str. 12-14:geo:6.89947,50.93616
END:VEVENT
BEGIN:VEVENT
DTSTART;VALUE=DATE:20191010
DTEND;VALUE=DATE:20191014
DTSTAMP:20260421T114542
CREATED:20180807T125356Z
LAST-MODIFIED:20180807T125356Z
UID:10000707-1570665600-1571011199@reflektorische-atemtherapie.de
SUMMARY:Aufbaukurs (Köln)
DESCRIPTION:
URL:https://reflektorische-atemtherapie.de/event/aufbaukurs-koeln-3/
LOCATION:Physioteam Lerch\, Christian-Gau-Str. 12-14\, Köln (Braunsfeld)\, 50933\, Deutschland
CATEGORIES:Modul 2
ORGANIZER;CN="Ariane Lerch":MAILTO:info@physioteamlerch.de
GEO:50.93616;6.89947
X-APPLE-STRUCTURED-LOCATION;VALUE=URI;X-ADDRESS=Physioteam Lerch Christian-Gau-Str. 12-14 Köln (Braunsfeld) 50933 Deutschland;X-APPLE-RADIUS=500;X-TITLE=Christian-Gau-Str. 12-14:geo:6.89947,50.93616
END:VEVENT
END:VCALENDAR